BEGIN:VCALENDAR
PRODID:-//nuDatenautomaten//framework iCal4j //DE
VERSION:2.0
CALSCALE:GREGORIAN
BEGIN:VTIMEZONE
TZID:Europe/Berlin
LAST-MODIFIED:20260306T231828Z
TZURL:https://www.tzurl.org/zoneinfo/Europe/Berlin
X-LIC-LOCATION:Europe/Berlin
X-PROLEPTIC-TZNAME:LMT
BEGIN:STANDARD
TZNAME:CET
TZOFFSETFROM:+005328
TZOFFSETTO:+0100
DTSTART:18930401T000000
END:STANDARD
BEGIN:DAYLIGHT
TZNAME:CEST
TZOFFSETFROM:+0100
TZOFFSETTO:+0200
DTSTART:19160430T230000
RDATE:19400401T020000
RDATE:19430329T020000
RDATE:19460414T020000
RDATE:19470406T030000
RDATE:19480418T020000
RDATE:19490410T020000
RDATE:19800406T020000
END:DAYLIGHT
BEGIN:STANDARD
TZNAME:CET
TZOFFSETFROM:+0200
TZOFFSETTO:+0100
DTSTART:19161001T010000
RDATE:19421102T030000
RDATE:19431004T030000
RDATE:19441002T030000
RDATE:19451118T030000
RDATE:19461007T030000
END:STANDARD
BEGIN:DAYLIGHT
TZNAME:CEST
TZOFFSETFROM:+0100
TZOFFSETTO:+0200
DTSTART:19170416T020000
RRULE:FREQ=YEARLY;UNTIL=19180415T010000Z;BYMONTH=4;BYDAY=3MO
END:DAYLIGHT
BEGIN:STANDARD
TZNAME:CET
TZOFFSETFROM:+0200
TZOFFSETTO:+0100
DTSTART:19170917T030000
RRULE:FREQ=YEARLY;UNTIL=19180916T010000Z;BYMONTH=9;BYDAY=3MO
END:STANDARD
BEGIN:DAYLIGHT
TZNAME:CEST
TZOFFSETFROM:+0100
TZOFFSETTO:+0200
DTSTART:19440403T020000
RRULE:FREQ=YEARLY;UNTIL=19450402T010000Z;BYMONTH=4;BYDAY=1MO
END:DAYLIGHT
BEGIN:DAYLIGHT
TZNAME:CEMT
TZOFFSETFROM:+0200
TZOFFSETTO:+0300
DTSTART:19450524T020000
RDATE:19470511T030000
END:DAYLIGHT
BEGIN:DAYLIGHT
TZNAME:CEST
TZOFFSETFROM:+0300
TZOFFSETTO:+0200
DTSTART:19450924T030000
RDATE:19470629T030000
END:DAYLIGHT
BEGIN:STANDARD
TZNAME:CET
TZOFFSETFROM:+0100
TZOFFSETTO:+0100
DTSTART:19460101T000000
RDATE:19800101T000000
END:STANDARD
BEGIN:STANDARD
TZNAME:CET
TZOFFSETFROM:+0200
TZOFFSETTO:+0100
DTSTART:19471005T030000
RRULE:FREQ=YEARLY;UNTIL=19491002T010000Z;BYMONTH=10;BYDAY=1SU
END:STANDARD
BEGIN:STANDARD
TZNAME:CET
TZOFFSETFROM:+0200
TZOFFSETTO:+0100
DTSTART:19800928T030000
RRULE:FREQ=YEARLY;UNTIL=19950924T010000Z;BYMONTH=9;BYDAY=-1SU
END:STANDARD
BEGIN:DAYLIGHT
TZNAME:CEST
TZOFFSETFROM:+0100
TZOFFSETTO:+0200
DTSTART:19810329T020000
RRULE:FREQ=YEARLY;BYMONTH=3;BYDAY=-1SU
END:DAYLIGHT
BEGIN:STANDARD
TZNAME:CET
TZOFFSETFROM:+0200
TZOFFSETTO:+0100
DTSTART:19961027T030000
RRULE:FREQ=YEARLY;BYMONTH=10;BYDAY=-1SU
END:STANDARD
END:VTIMEZONE
BEGIN:VEVENT
DTSTAMP:20260419T175636Z
DTSTART;TZID=Europe/Berlin:20230925T201500
DTEND;TZID=Europe/Berlin:20230925T231500
SUMMARY:8. Kreisklasse FT Vorwärts IV vs TV Jahn Kiel VI (12)
UID:1f3f700d-8bd8-5b33-e063-1fc7a80a4d3b
STATUS:CONFIRMED
LAST-MODIFIED:20240809T113107Z
DESCRIPTION:8. Kreisklasse Herren\nBegegnungs-Nr: 12\nHeim: FT Vorwärts IV\nGast: TV Jahn Kiel VI\n
LOCATION:
CATEGORIES:Saison 2023/24
END:VEVENT
BEGIN:VEVENT
DTSTAMP:20260419T175636Z
DTSTART;TZID=Europe/Berlin:20231009T201500
DTEND;TZID=Europe/Berlin:20231009T231500
SUMMARY:8. Kreisklasse FT Vorwärts IV vs VfR Laboe V (22)
UID:1f3f700d-8cad-5b33-e063-1fc7a80a4d3b
STATUS:CONFIRMED
LAST-MODIFIED:20240809T113107Z
DESCRIPTION:8. Kreisklasse Herren\nBegegnungs-Nr: 22\nHeim: FT Vorwärts IV\nGast: VfR Laboe V\n
LOCATION:
CATEGORIES:Saison 2023/24
END:VEVENT
BEGIN:VEVENT
DTSTAMP:20260419T175636Z
DTSTART;TZID=Europe/Berlin:20231106T201500
DTEND;TZID=Europe/Berlin:20231106T231500
SUMMARY:8. Kreisklasse FT Vorwärts IV vs Kieler MTV V (3)
UID:1f3f700d-8d19-5b33-e063-1fc7a80a4d3b
STATUS:CONFIRMED
LAST-MODIFIED:20240809T113107Z
DESCRIPTION:8. Kreisklasse Herren\nBegegnungs-Nr: 3\nHeim: FT Vorwärts IV\nGast: Kieler MTV V\n
LOCATION:
CATEGORIES:Saison 2023/24
END:VEVENT
BEGIN:VEVENT
DTSTAMP:20260419T175636Z
DTSTART;TZID=Europe/Berlin:20231113T201500
DTEND;TZID=Europe/Berlin:20231113T231500
SUMMARY:8. Kreisklasse FT Vorwärts IV vs THW Kiel V (37)
UID:1f3f700d-8dad-5b33-e063-1fc7a80a4d3b
STATUS:CONFIRMED
LAST-MODIFIED:20240809T113107Z
DESCRIPTION:8. Kreisklasse Herren\nBegegnungs-Nr: 37\nHeim: FT Vorwärts IV\nGast: THW Kiel V\n
LOCATION:
CATEGORIES:Saison 2023/24
END:VEVENT
BEGIN:VEVENT
DTSTAMP:20260419T175636Z
DTSTART;TZID=Europe/Berlin:20231127T201500
DTEND;TZID=Europe/Berlin:20231127T231500
SUMMARY:8. Kreisklasse FT Vorwärts IV vs TSV Wattenbek III (45)
UID:1f3f700d-8e62-5b33-e063-1fc7a80a4d3b
STATUS:CONFIRMED
LAST-MODIFIED:20240809T113107Z
DESCRIPTION:8. Kreisklasse Herren\nBegegnungs-Nr: 45\nHeim: FT Vorwärts IV\nGast: TSV Wattenbek III\n
LOCATION:
CATEGORIES:Saison 2023/24
END:VEVENT
BEGIN:VEVENT
DTSTAMP:20260419T175636Z
DTSTART;TZID=Europe/Berlin:20240122T201500
DTEND;TZID=Europe/Berlin:20240122T231500
SUMMARY:8. Kreisklasse FT Vorwärts IV vs Post/Telekom SV Kiel-Kronshagen III (106)
UID:1f3f700d-8fb9-5b33-e063-1fc7a80a4d3b
STATUS:CONFIRMED
LAST-MODIFIED:20240809T113108Z
DESCRIPTION:8. Kreisklasse Herren\nBegegnungs-Nr: 106\nHeim: FT Vorwärts IV\nGast: Post/Telekom SV Kiel-Kronshagen III\n
LOCATION:
CATEGORIES:Saison 2023/24
END:VEVENT
BEGIN:VEVENT
DTSTAMP:20260419T175636Z
DTSTART;TZID=Europe/Berlin:20240205T201500
DTEND;TZID=Europe/Berlin:20240205T231500
SUMMARY:8. Kreisklasse FT Vorwärts IV vs Suchsdorfer SV III (115)
UID:1f3f700d-9067-5b33-e063-1fc7a80a4d3b
STATUS:CONFIRMED
LAST-MODIFIED:20240809T113108Z
DESCRIPTION:8. Kreisklasse Herren\nBegegnungs-Nr: 115\nHeim: FT Vorwärts IV\nGast: Suchsdorfer SV III\n
LOCATION:
CATEGORIES:Saison 2023/24
END:VEVENT
BEGIN:VEVENT
DTSTAMP:20260419T175636Z
DTSTART;TZID=Europe/Berlin:20240219T201500
DTEND;TZID=Europe/Berlin:20240219T231500
SUMMARY:8. Kreisklasse FT Vorwärts IV vs Kieler MTV IV (124)
UID:1f3f700d-910b-5b33-e063-1fc7a80a4d3b
STATUS:CONFIRMED
LAST-MODIFIED:20240809T113108Z
DESCRIPTION:8. Kreisklasse Herren\nBegegnungs-Nr: 124\nHeim: FT Vorwärts IV\nGast: Kieler MTV IV\n
LOCATION:
CATEGORIES:Saison 2023/24
END:VEVENT
BEGIN:VEVENT
DTSTAMP:20260419T175636Z
DTSTART;TZID=Europe/Berlin:20240311T201500
DTEND;TZID=Europe/Berlin:20240311T231500
SUMMARY:8. Kreisklasse FT Vorwärts IV vs Kieler TV IV (138)
UID:1f3f700d-91d5-5b33-e063-1fc7a80a4d3b
STATUS:CONFIRMED
LAST-MODIFIED:20240809T113108Z
DESCRIPTION:8. Kreisklasse Herren\nBegegnungs-Nr: 138\nHeim: FT Vorwärts IV\nGast: Kieler TV IV\n
LOCATION:
CATEGORIES:Saison 2023/24
END:VEVENT
BEGIN:VEVENT
DTSTAMP:20260419T175636Z
DTSTART;TZID=Europe/Berlin:20240325T201500
DTEND;TZID=Europe/Berlin:20240325T231500
SUMMARY:8. Kreisklasse FT Vorwärts IV vs VfR Laboe IV (148)
UID:1f3f700d-928d-5b33-e063-1fc7a80a4d3b
STATUS:CONFIRMED
LAST-MODIFIED:20240809T113108Z
DESCRIPTION:8. Kreisklasse Herren\nBegegnungs-Nr: 148\nHeim: FT Vorwärts IV\nGast: VfR Laboe IV\n
LOCATION:
CATEGORIES:Saison 2023/24
END:VEVENT
BEGIN:VEVENT
DTSTAMP:20260419T175636Z
DTSTART;TZID=Europe/Berlin:20231006T200000
DTEND;TZID=Europe/Berlin:20231006T230000
SUMMARY:8. Kreisklasse Suchsdorfer SV III vs FT Vorwärts IV (21)
UID:1f3f700d-8c9c-5b33-e063-1fc7a80a4d3b
STATUS:CONFIRMED
LAST-MODIFIED:20240809T113107Z
DESCRIPTION:8. Kreisklasse Herren\nBegegnungs-Nr: 21\nHeim: Suchsdorfer SV III\nGast: FT Vorwärts IV\n
LOCATION:
CATEGORIES:Saison 2023/24
END:VEVENT
BEGIN:VEVENT
DTSTAMP:20260419T175636Z
DTSTART;TZID=Europe/Berlin:20231102T201500
DTEND;TZID=Europe/Berlin:20231102T231500
SUMMARY:8. Kreisklasse Kieler MTV IV vs FT Vorwärts IV (30)
UID:1f3f700d-8d2e-5b33-e063-1fc7a80a4d3b
STATUS:CONFIRMED
LAST-MODIFIED:20240809T113107Z
DESCRIPTION:8. Kreisklasse Herren\nBegegnungs-Nr: 30\nHeim: Kieler MTV IV\nGast: FT Vorwärts IV\n
LOCATION:
CATEGORIES:Saison 2023/24
END:VEVENT
BEGIN:VEVENT
DTSTAMP:20260419T175636Z
DTSTART;TZID=Europe/Berlin:20231213T200000
DTEND;TZID=Europe/Berlin:20231213T230000
SUMMARY:8. Kreisklasse Kieler TV IV vs FT Vorwärts IV (42)
UID:1f3f700d-8e26-5b33-e063-1fc7a80a4d3b
STATUS:CONFIRMED
LAST-MODIFIED:20240809T113107Z
DESCRIPTION:8. Kreisklasse Herren\nBegegnungs-Nr: 42\nHeim: Kieler TV IV\nGast: FT Vorwärts IV\n
LOCATION:
CATEGORIES:Saison 2023/24
END:VEVENT
BEGIN:VEVENT
DTSTAMP:20260419T175636Z
DTSTART;TZID=Europe/Berlin:20231207T200000
DTEND;TZID=Europe/Berlin:20231207T230000
SUMMARY:8. Kreisklasse VfR Laboe IV vs FT Vorwärts IV (53)
UID:1f3f700d-8eeb-5b33-e063-1fc7a80a4d3b
STATUS:CONFIRMED
LAST-MODIFIED:20240809T113108Z
DESCRIPTION:8. Kreisklasse Herren\nBegegnungs-Nr: 53\nHeim: VfR Laboe IV\nGast: FT Vorwärts IV\n
LOCATION:
CATEGORIES:Saison 2023/24
END:VEVENT
BEGIN:VEVENT
DTSTAMP:20260419T175636Z
DTSTART;TZID=Europe/Berlin:20231026T200000
DTEND;TZID=Europe/Berlin:20231026T230000
SUMMARY:8. Kreisklasse Post/Telekom SV Kiel-Kronshagen III vs FT Vorwärts IV (9)
UID:1f3f700d-8f5c-5b33-e063-1fc7a80a4d3b
STATUS:CONFIRMED
LAST-MODIFIED:20240809T113108Z
DESCRIPTION:8. Kreisklasse Herren\nBegegnungs-Nr: 9\nHeim: Post/Telekom SV Kiel-Kronshagen III\nGast: FT Vorwärts IV\n
LOCATION:
CATEGORIES:Saison 2023/24
END:VEVENT
BEGIN:VEVENT
DTSTAMP:20260419T175636Z
DTSTART;TZID=Europe/Berlin:20240201T193000
DTEND;TZID=Europe/Berlin:20240201T223000
SUMMARY:8. Kreisklasse TV Jahn Kiel VI vs FT Vorwärts IV (110)
UID:1f3f700d-9004-5b33-e063-1fc7a80a4d3b
STATUS:CONFIRMED
LAST-MODIFIED:20240809T113108Z
DESCRIPTION:8. Kreisklasse Herren\nBegegnungs-Nr: 110\nHeim: TV Jahn Kiel VI\nGast: FT Vorwärts IV\n
LOCATION:
CATEGORIES:Saison 2023/24
END:VEVENT
BEGIN:VEVENT
DTSTAMP:20260419T175636Z
DTSTART;TZID=Europe/Berlin:20240215T200000
DTEND;TZID=Europe/Berlin:20240215T230000
SUMMARY:8. Kreisklasse VfR Laboe V vs FT Vorwärts IV (120)
UID:1f3f700d-90c4-5b33-e063-1fc7a80a4d3b
STATUS:CONFIRMED
LAST-MODIFIED:20240809T113108Z
DESCRIPTION:8. Kreisklasse Herren\nBegegnungs-Nr: 120\nHeim: VfR Laboe V\nGast: FT Vorwärts IV\n
LOCATION:
CATEGORIES:Saison 2023/24
END:VEVENT
BEGIN:VEVENT
DTSTAMP:20260419T175636Z
DTSTART;TZID=Europe/Berlin:20240319T201500
DTEND;TZID=Europe/Berlin:20240319T231500
SUMMARY:8. Kreisklasse TSV Wattenbek III vs FT Vorwärts IV (142)
UID:1f3f700d-9222-5b33-e063-1fc7a80a4d3b
STATUS:CONFIRMED
LAST-MODIFIED:20240809T113108Z
DESCRIPTION:8. Kreisklasse Herren\nBegegnungs-Nr: 142\nHeim: TSV Wattenbek III\nGast: FT Vorwärts IV\n
LOCATION:
CATEGORIES:Saison 2023/24
END:VEVENT
BEGIN:VEVENT
DTSTAMP:20260419T175636Z
DTSTART;TZID=Europe/Berlin:20240422T194500
DTEND;TZID=Europe/Berlin:20240422T224500
SUMMARY:8. Kreisklasse Kieler MTV V vs FT Vorwärts IV (151)
UID:1f3f700d-92c4-5b33-e063-1fc7a80a4d3b
STATUS:CONFIRMED
LAST-MODIFIED:20240809T113108Z
DESCRIPTION:8. Kreisklasse Herren\nBegegnungs-Nr: 151\nHeim: Kieler MTV V\nGast: FT Vorwärts IV\n
LOCATION:
CATEGORIES:Saison 2023/24
END:VEVENT
END:VCALENDAR
