BEGIN:VCALENDAR
PRODID:-//nuDatenautomaten//framework iCal4j //DE
VERSION:2.0
CALSCALE:GREGORIAN
BEGIN:VTIMEZONE
TZID:Europe/Berlin
LAST-MODIFIED:20260306T231828Z
TZURL:https://www.tzurl.org/zoneinfo/Europe/Berlin
X-LIC-LOCATION:Europe/Berlin
X-PROLEPTIC-TZNAME:LMT
BEGIN:STANDARD
TZNAME:CET
TZOFFSETFROM:+005328
TZOFFSETTO:+0100
DTSTART:18930401T000000
END:STANDARD
BEGIN:DAYLIGHT
TZNAME:CEST
TZOFFSETFROM:+0100
TZOFFSETTO:+0200
DTSTART:19160430T230000
RDATE:19400401T020000
RDATE:19430329T020000
RDATE:19460414T020000
RDATE:19470406T030000
RDATE:19480418T020000
RDATE:19490410T020000
RDATE:19800406T020000
END:DAYLIGHT
BEGIN:STANDARD
TZNAME:CET
TZOFFSETFROM:+0200
TZOFFSETTO:+0100
DTSTART:19161001T010000
RDATE:19421102T030000
RDATE:19431004T030000
RDATE:19441002T030000
RDATE:19451118T030000
RDATE:19461007T030000
END:STANDARD
BEGIN:DAYLIGHT
TZNAME:CEST
TZOFFSETFROM:+0100
TZOFFSETTO:+0200
DTSTART:19170416T020000
RRULE:FREQ=YEARLY;UNTIL=19180415T010000Z;BYMONTH=4;BYDAY=3MO
END:DAYLIGHT
BEGIN:STANDARD
TZNAME:CET
TZOFFSETFROM:+0200
TZOFFSETTO:+0100
DTSTART:19170917T030000
RRULE:FREQ=YEARLY;UNTIL=19180916T010000Z;BYMONTH=9;BYDAY=3MO
END:STANDARD
BEGIN:DAYLIGHT
TZNAME:CEST
TZOFFSETFROM:+0100
TZOFFSETTO:+0200
DTSTART:19440403T020000
RRULE:FREQ=YEARLY;UNTIL=19450402T010000Z;BYMONTH=4;BYDAY=1MO
END:DAYLIGHT
BEGIN:DAYLIGHT
TZNAME:CEMT
TZOFFSETFROM:+0200
TZOFFSETTO:+0300
DTSTART:19450524T020000
RDATE:19470511T030000
END:DAYLIGHT
BEGIN:DAYLIGHT
TZNAME:CEST
TZOFFSETFROM:+0300
TZOFFSETTO:+0200
DTSTART:19450924T030000
RDATE:19470629T030000
END:DAYLIGHT
BEGIN:STANDARD
TZNAME:CET
TZOFFSETFROM:+0100
TZOFFSETTO:+0100
DTSTART:19460101T000000
RDATE:19800101T000000
END:STANDARD
BEGIN:STANDARD
TZNAME:CET
TZOFFSETFROM:+0200
TZOFFSETTO:+0100
DTSTART:19471005T030000
RRULE:FREQ=YEARLY;UNTIL=19491002T010000Z;BYMONTH=10;BYDAY=1SU
END:STANDARD
BEGIN:STANDARD
TZNAME:CET
TZOFFSETFROM:+0200
TZOFFSETTO:+0100
DTSTART:19800928T030000
RRULE:FREQ=YEARLY;UNTIL=19950924T010000Z;BYMONTH=9;BYDAY=-1SU
END:STANDARD
BEGIN:DAYLIGHT
TZNAME:CEST
TZOFFSETFROM:+0100
TZOFFSETTO:+0200
DTSTART:19810329T020000
RRULE:FREQ=YEARLY;BYMONTH=3;BYDAY=-1SU
END:DAYLIGHT
BEGIN:STANDARD
TZNAME:CET
TZOFFSETFROM:+0200
TZOFFSETTO:+0100
DTSTART:19961027T030000
RRULE:FREQ=YEARLY;BYMONTH=10;BYDAY=-1SU
END:STANDARD
END:VTIMEZONE
BEGIN:VEVENT
DTSTAMP:20260419T171113Z
DTSTART;TZID=Europe/Berlin:20220919T180000
DTEND;TZID=Europe/Berlin:20220919T210000
SUMMARY:Kreisliga SV Henstedt-Ulzburg  vs TV Trappenkamp  (1)
UID:02ac3200-df34-7811-e063-1fc7a80a9a89
STATUS:CONFIRMED
LAST-MODIFIED:20230811T200613Z
DESCRIPTION:Kreisliga Jungen 15\nBegegnungs-Nr: 1\nHeim: SV Henstedt-Ulzburg \nGast: TV Trappenkamp \n
LOCATION:
CATEGORIES:Saison 2022/23
END:VEVENT
BEGIN:VEVENT
DTSTAMP:20260419T171113Z
DTSTART;TZID=Europe/Berlin:20221114T180000
DTEND;TZID=Europe/Berlin:20221114T210000
SUMMARY:Kreisliga SV Henstedt-Ulzburg  vs Kaltenkirchener Turnerschaft II (17)
UID:02ac3200-dfbc-7811-e063-1fc7a80a9a89
STATUS:CONFIRMED
LAST-MODIFIED:20230811T200613Z
DESCRIPTION:Kreisliga Jungen 15\nBegegnungs-Nr: 17\nHeim: SV Henstedt-Ulzburg \nGast: Kaltenkirchener Turnerschaft II\n
LOCATION:
CATEGORIES:Saison 2022/23
END:VEVENT
BEGIN:VEVENT
DTSTAMP:20260419T171113Z
DTSTART;TZID=Europe/Berlin:20221121T180000
DTEND;TZID=Europe/Berlin:20221121T210000
SUMMARY:Kreisliga SV Henstedt-Ulzburg  vs Kaltenkirchener Turnerschaft  (21)
UID:02ac3200-e011-7811-e063-1fc7a80a9a89
STATUS:CONFIRMED
LAST-MODIFIED:20230811T200613Z
DESCRIPTION:Kreisliga Jungen 15\nBegegnungs-Nr: 21\nHeim: SV Henstedt-Ulzburg \nGast: Kaltenkirchener Turnerschaft \n
LOCATION:
CATEGORIES:Saison 2022/23
END:VEVENT
BEGIN:VEVENT
DTSTAMP:20260419T171113Z
DTSTART;TZID=Europe/Berlin:20221024T180000
DTEND;TZID=Europe/Berlin:20221024T210000
SUMMARY:Kreisliga SV Henstedt-Ulzburg  vs SC Ellerau  (9)
UID:02ac3200-e101-7811-e063-1fc7a80a9a89
STATUS:CONFIRMED
LAST-MODIFIED:20230811T200613Z
DESCRIPTION:Kreisliga Jungen 15\nBegegnungs-Nr: 9\nHeim: SV Henstedt-Ulzburg \nGast: SC Ellerau \n
LOCATION:
CATEGORIES:Saison 2022/23
END:VEVENT
BEGIN:VEVENT
DTSTAMP:20260419T171113Z
DTSTART;TZID=Europe/Berlin:20230206T180000
DTEND;TZID=Europe/Berlin:20230206T210000
SUMMARY:Kreisliga SV Henstedt-Ulzburg  vs TuS Fahrenkrug  (15)
UID:02ac3200-e179-7811-e063-1fc7a80a9a89
STATUS:CONFIRMED
LAST-MODIFIED:20230811T200613Z
DESCRIPTION:Kreisliga Jungen 15\nBegegnungs-Nr: 15\nHeim: SV Henstedt-Ulzburg \nGast: TuS Fahrenkrug \n
LOCATION:
CATEGORIES:Saison 2022/23
END:VEVENT
BEGIN:VEVENT
DTSTAMP:20260419T171113Z
DTSTART;TZID=Europe/Berlin:20230213T181500
DTEND;TZID=Europe/Berlin:20230213T211500
SUMMARY:Kreisliga SV Henstedt-Ulzburg  vs Post SG Segeberg  (18)
UID:02ac3200-e1ad-7811-e063-1fc7a80a9a89
STATUS:CONFIRMED
LAST-MODIFIED:20230811T200613Z
DESCRIPTION:Kreisliga Jungen 15\nBegegnungs-Nr: 18\nHeim: SV Henstedt-Ulzburg \nGast: Post SG Segeberg \n
LOCATION:
CATEGORIES:Saison 2022/23
END:VEVENT
BEGIN:VEVENT
DTSTAMP:20260419T171113Z
DTSTART;TZID=Europe/Berlin:20230116T180000
DTEND;TZID=Europe/Berlin:20230116T210000
SUMMARY:Kreisliga SV Henstedt-Ulzburg  vs SV Henstedt-Ulzburg II (5)
UID:02ac3200-e29c-7811-e063-1fc7a80a9a89
STATUS:CONFIRMED
LAST-MODIFIED:20230811T200613Z
DESCRIPTION:Kreisliga Jungen 15\nBegegnungs-Nr: 5\nHeim: SV Henstedt-Ulzburg \nGast: SV Henstedt-Ulzburg II\n
LOCATION:
CATEGORIES:Saison 2022/23
END:VEVENT
BEGIN:VEVENT
DTSTAMP:20260419T171113Z
DTSTART;TZID=Europe/Berlin:20221104T180000
DTEND;TZID=Europe/Berlin:20221104T210000
SUMMARY:Kreisliga TuS Fahrenkrug  vs SV Henstedt-Ulzburg  (16)
UID:02ac3200-dfab-7811-e063-1fc7a80a9a89
STATUS:CONFIRMED
LAST-MODIFIED:20230811T200613Z
DESCRIPTION:Kreisliga Jungen 15\nBegegnungs-Nr: 16\nHeim: TuS Fahrenkrug \nGast: SV Henstedt-Ulzburg \n
LOCATION:
CATEGORIES:Saison 2022/23
END:VEVENT
BEGIN:VEVENT
DTSTAMP:20260419T171113Z
DTSTART;TZID=Europe/Berlin:20221128T181500
DTEND;TZID=Europe/Berlin:20221128T211500
SUMMARY:Kreisliga Post SG Segeberg  vs SV Henstedt-Ulzburg  (26)
UID:02ac3200-e066-7811-e063-1fc7a80a9a89
STATUS:CONFIRMED
LAST-MODIFIED:20230811T200613Z
DESCRIPTION:Kreisliga Jungen 15\nBegegnungs-Nr: 26\nHeim: Post SG Segeberg \nGast: SV Henstedt-Ulzburg \n
LOCATION:
CATEGORIES:Saison 2022/23
END:VEVENT
BEGIN:VEVENT
DTSTAMP:20260419T171113Z
DTSTART;TZID=Europe/Berlin:20220926T180000
DTEND;TZID=Europe/Berlin:20220926T210000
SUMMARY:Kreisliga SV Henstedt-Ulzburg II vs SV Henstedt-Ulzburg  (5)
UID:02ac3200-e0bd-7811-e063-1fc7a80a9a89
STATUS:CONFIRMED
LAST-MODIFIED:20230811T200613Z
DESCRIPTION:Kreisliga Jungen 15\nBegegnungs-Nr: 5\nHeim: SV Henstedt-Ulzburg II\nGast: SV Henstedt-Ulzburg \n
LOCATION:
CATEGORIES:Saison 2022/23
END:VEVENT
BEGIN:VEVENT
DTSTAMP:20260419T171113Z
DTSTART;TZID=Europe/Berlin:20230324T180000
DTEND;TZID=Europe/Berlin:20230324T210000
SUMMARY:Kreisliga SC Ellerau  vs SV Henstedt-Ulzburg  (11)
UID:02ac3200-e134-7811-e063-1fc7a80a9a89
STATUS:CONFIRMED
LAST-MODIFIED:20230811T200613Z
DESCRIPTION:Kreisliga Jungen 15\nBegegnungs-Nr: 11\nHeim: SC Ellerau \nGast: SV Henstedt-Ulzburg \n
LOCATION:
CATEGORIES:Saison 2022/23
END:VEVENT
BEGIN:VEVENT
DTSTAMP:20260419T171113Z
DTSTART;TZID=Europe/Berlin:20230306T182000
DTEND;TZID=Europe/Berlin:20230306T212000
SUMMARY:Kreisliga Kaltenkirchener Turnerschaft  vs SV Henstedt-Ulzburg  (21)
UID:02ac3200-e1f2-7811-e063-1fc7a80a9a89
STATUS:CONFIRMED
LAST-MODIFIED:20230811T200613Z
DESCRIPTION:Kreisliga Jungen 15\nBegegnungs-Nr: 21\nHeim: Kaltenkirchener Turnerschaft \nGast: SV Henstedt-Ulzburg \n
LOCATION:
CATEGORIES:Saison 2022/23
END:VEVENT
BEGIN:VEVENT
DTSTAMP:20260419T171113Z
DTSTART;TZID=Europe/Berlin:20230301T181500
DTEND;TZID=Europe/Berlin:20230301T211500
SUMMARY:Kreisliga TV Trappenkamp  vs SV Henstedt-Ulzburg  (27)
UID:02ac3200-e258-7811-e063-1fc7a80a9a89
STATUS:CONFIRMED
LAST-MODIFIED:20230811T200613Z
DESCRIPTION:Kreisliga Jungen 15\nBegegnungs-Nr: 27\nHeim: TV Trappenkamp \nGast: SV Henstedt-Ulzburg \n
LOCATION:
CATEGORIES:Saison 2022/23
END:VEVENT
BEGIN:VEVENT
DTSTAMP:20260419T171113Z
DTSTART;TZID=Europe/Berlin:20230118T180000
DTEND;TZID=Europe/Berlin:20230118T210000
SUMMARY:Kreisliga Kaltenkirchener Turnerschaft II vs SV Henstedt-Ulzburg  (4)
UID:02ac3200-e28b-7811-e063-1fc7a80a9a89
STATUS:CONFIRMED
LAST-MODIFIED:20230811T200613Z
DESCRIPTION:Kreisliga Jungen 15\nBegegnungs-Nr: 4\nHeim: Kaltenkirchener Turnerschaft II\nGast: SV Henstedt-Ulzburg \n
LOCATION:
CATEGORIES:Saison 2022/23
END:VEVENT
END:VCALENDAR
