BEGIN:VCALENDAR
PRODID:-//nuDatenautomaten//framework iCal4j //DE
VERSION:2.0
CALSCALE:GREGORIAN
BEGIN:VTIMEZONE
TZID:Europe/Berlin
LAST-MODIFIED:20260306T231828Z
TZURL:https://www.tzurl.org/zoneinfo/Europe/Berlin
X-LIC-LOCATION:Europe/Berlin
X-PROLEPTIC-TZNAME:LMT
BEGIN:STANDARD
TZNAME:CET
TZOFFSETFROM:+005328
TZOFFSETTO:+0100
DTSTART:18930401T000000
END:STANDARD
BEGIN:DAYLIGHT
TZNAME:CEST
TZOFFSETFROM:+0100
TZOFFSETTO:+0200
DTSTART:19160430T230000
RDATE:19400401T020000
RDATE:19430329T020000
RDATE:19460414T020000
RDATE:19470406T030000
RDATE:19480418T020000
RDATE:19490410T020000
RDATE:19800406T020000
END:DAYLIGHT
BEGIN:STANDARD
TZNAME:CET
TZOFFSETFROM:+0200
TZOFFSETTO:+0100
DTSTART:19161001T010000
RDATE:19421102T030000
RDATE:19431004T030000
RDATE:19441002T030000
RDATE:19451118T030000
RDATE:19461007T030000
END:STANDARD
BEGIN:DAYLIGHT
TZNAME:CEST
TZOFFSETFROM:+0100
TZOFFSETTO:+0200
DTSTART:19170416T020000
RRULE:FREQ=YEARLY;UNTIL=19180415T010000Z;BYMONTH=4;BYDAY=3MO
END:DAYLIGHT
BEGIN:STANDARD
TZNAME:CET
TZOFFSETFROM:+0200
TZOFFSETTO:+0100
DTSTART:19170917T030000
RRULE:FREQ=YEARLY;UNTIL=19180916T010000Z;BYMONTH=9;BYDAY=3MO
END:STANDARD
BEGIN:DAYLIGHT
TZNAME:CEST
TZOFFSETFROM:+0100
TZOFFSETTO:+0200
DTSTART:19440403T020000
RRULE:FREQ=YEARLY;UNTIL=19450402T010000Z;BYMONTH=4;BYDAY=1MO
END:DAYLIGHT
BEGIN:DAYLIGHT
TZNAME:CEMT
TZOFFSETFROM:+0200
TZOFFSETTO:+0300
DTSTART:19450524T020000
RDATE:19470511T030000
END:DAYLIGHT
BEGIN:DAYLIGHT
TZNAME:CEST
TZOFFSETFROM:+0300
TZOFFSETTO:+0200
DTSTART:19450924T030000
RDATE:19470629T030000
END:DAYLIGHT
BEGIN:STANDARD
TZNAME:CET
TZOFFSETFROM:+0100
TZOFFSETTO:+0100
DTSTART:19460101T000000
RDATE:19800101T000000
END:STANDARD
BEGIN:STANDARD
TZNAME:CET
TZOFFSETFROM:+0200
TZOFFSETTO:+0100
DTSTART:19471005T030000
RRULE:FREQ=YEARLY;UNTIL=19491002T010000Z;BYMONTH=10;BYDAY=1SU
END:STANDARD
BEGIN:STANDARD
TZNAME:CET
TZOFFSETFROM:+0200
TZOFFSETTO:+0100
DTSTART:19800928T030000
RRULE:FREQ=YEARLY;UNTIL=19950924T010000Z;BYMONTH=9;BYDAY=-1SU
END:STANDARD
BEGIN:DAYLIGHT
TZNAME:CEST
TZOFFSETFROM:+0100
TZOFFSETTO:+0200
DTSTART:19810329T020000
RRULE:FREQ=YEARLY;BYMONTH=3;BYDAY=-1SU
END:DAYLIGHT
BEGIN:STANDARD
TZNAME:CET
TZOFFSETFROM:+0200
TZOFFSETTO:+0100
DTSTART:19961027T030000
RRULE:FREQ=YEARLY;BYMONTH=10;BYDAY=-1SU
END:STANDARD
END:VTIMEZONE
BEGIN:VEVENT
DTSTAMP:20260421T150905Z
DTSTART;TZID=Europe/Berlin:20221104T201500
DTEND;TZID=Europe/Berlin:20221104T231500
SUMMARY:2. Kreisklasse Bargenstedter SC II vs TTSG Welm-Wrohm-Dell II (513)
UID:02ac31fe-81a0-7811-e063-1fc7a80a9a89
STATUS:CONFIRMED
LAST-MODIFIED:20230811T200508Z
DESCRIPTION:2. Kreisklasse Herren\nBegegnungs-Nr: 513\nHeim: Bargenstedter SC II\nGast: TTSG Welm-Wrohm-Dell II\n
LOCATION:
CATEGORIES:Saison 2022/23
END:VEVENT
BEGIN:VEVENT
DTSTAMP:20260421T150905Z
DTSTART;TZID=Europe/Berlin:20221216T201500
DTEND;TZID=Europe/Berlin:20221216T231500
SUMMARY:2. Kreisklasse Bargenstedter SC II vs TSV Eddelak II (528)
UID:02ac31fe-82ae-7811-e063-1fc7a80a9a89
STATUS:CONFIRMED
LAST-MODIFIED:20230811T200508Z
DESCRIPTION:2. Kreisklasse Herren\nBegegnungs-Nr: 528\nHeim: Bargenstedter SC II\nGast: TSV Eddelak II\n
LOCATION:
CATEGORIES:Saison 2022/23
END:VEVENT
BEGIN:VEVENT
DTSTAMP:20260421T150905Z
DTSTART;TZID=Europe/Berlin:20230203T201500
DTEND;TZID=Europe/Berlin:20230203T231500
SUMMARY:2. Kreisklasse Bargenstedter SC II vs MTV Heide IV (608)
UID:02ac31fe-8347-7811-e063-1fc7a80a9a89
STATUS:CONFIRMED
LAST-MODIFIED:20230811T200508Z
DESCRIPTION:2. Kreisklasse Herren\nBegegnungs-Nr: 608\nHeim: Bargenstedter SC II\nGast: MTV Heide IV\n
LOCATION:
CATEGORIES:Saison 2022/23
END:VEVENT
BEGIN:VEVENT
DTSTAMP:20260421T150905Z
DTSTART;TZID=Europe/Berlin:20230224T201500
DTEND;TZID=Europe/Berlin:20230224T231500
SUMMARY:2. Kreisklasse Bargenstedter SC II vs TTSG Weddingstedt/Wesseln IV (615)
UID:02ac31fe-83ce-7811-e063-1fc7a80a9a89
STATUS:CONFIRMED
LAST-MODIFIED:20230811T200508Z
DESCRIPTION:2. Kreisklasse Herren\nBegegnungs-Nr: 615\nHeim: Bargenstedter SC II\nGast: TTSG Weddingstedt/Wesseln IV\n
LOCATION:
CATEGORIES:Saison 2022/23
END:VEVENT
BEGIN:VEVENT
DTSTAMP:20260421T150905Z
DTSTART;TZID=Europe/Berlin:20230310T201500
DTEND;TZID=Europe/Berlin:20230310T231500
SUMMARY:2. Kreisklasse Bargenstedter SC II vs TSV Schwarz-Rot Schülp III (621)
UID:02ac31fe-843f-7811-e063-1fc7a80a9a89
STATUS:CONFIRMED
LAST-MODIFIED:20230811T200508Z
DESCRIPTION:2. Kreisklasse Herren\nBegegnungs-Nr: 621\nHeim: Bargenstedter SC II\nGast: TSV Schwarz-Rot Schülp III\n
LOCATION:
CATEGORIES:Saison 2022/23
END:VEVENT
BEGIN:VEVENT
DTSTAMP:20260421T150905Z
DTSTART;TZID=Europe/Berlin:20230317T201500
DTEND;TZID=Europe/Berlin:20230317T231500
SUMMARY:2. Kreisklasse Bargenstedter SC II vs SV Farnewinkel-Nindorf II (623)
UID:02ac31fe-8461-7811-e063-1fc7a80a9a89
STATUS:CONFIRMED
LAST-MODIFIED:20230811T200508Z
DESCRIPTION:2. Kreisklasse Herren\nBegegnungs-Nr: 623\nHeim: Bargenstedter SC II\nGast: SV Farnewinkel-Nindorf II\n
LOCATION:
CATEGORIES:Saison 2022/23
END:VEVENT
BEGIN:VEVENT
DTSTAMP:20260421T150905Z
DTSTART;TZID=Europe/Berlin:20230324T201500
DTEND;TZID=Europe/Berlin:20230324T231500
SUMMARY:2. Kreisklasse Bargenstedter SC II vs MTV Heide III (626)
UID:02ac31fe-849d-7811-e063-1fc7a80a9a89
STATUS:CONFIRMED
LAST-MODIFIED:20230811T200508Z
DESCRIPTION:2. Kreisklasse Herren\nBegegnungs-Nr: 626\nHeim: Bargenstedter SC II\nGast: MTV Heide III\n
LOCATION:
CATEGORIES:Saison 2022/23
END:VEVENT
BEGIN:VEVENT
DTSTAMP:20260421T150905Z
DTSTART;TZID=Europe/Berlin:20220923T193000
DTEND;TZID=Europe/Berlin:20220923T223000
SUMMARY:2. Kreisklasse MTV Heide IV vs Bargenstedter SC II (508)
UID:02ac31fe-8141-7811-e063-1fc7a80a9a89
STATUS:CONFIRMED
LAST-MODIFIED:20230811T200508Z
DESCRIPTION:2. Kreisklasse Herren\nBegegnungs-Nr: 508\nHeim: MTV Heide IV\nGast: Bargenstedter SC II\n
LOCATION:
CATEGORIES:Saison 2022/23
END:VEVENT
BEGIN:VEVENT
DTSTAMP:20260421T150905Z
DTSTART;TZID=Europe/Berlin:20221107T200000
DTEND;TZID=Europe/Berlin:20221107T230000
SUMMARY:2. Kreisklasse TTSG Weddingstedt/Wesseln IV vs Bargenstedter SC II (514)
UID:02ac31fe-81b3-7811-e063-1fc7a80a9a89
STATUS:CONFIRMED
LAST-MODIFIED:20230811T200508Z
DESCRIPTION:2. Kreisklasse Herren\nBegegnungs-Nr: 514\nHeim: TTSG Weddingstedt/Wesseln IV\nGast: Bargenstedter SC II\n
LOCATION:
CATEGORIES:Saison 2022/23
END:VEVENT
BEGIN:VEVENT
DTSTAMP:20260421T150905Z
DTSTART;TZID=Europe/Berlin:20221122T200000
DTEND;TZID=Europe/Berlin:20221122T230000
SUMMARY:2. Kreisklasse TSV Schwarz-Rot Schülp III vs Bargenstedter SC II (520)
UID:02ac31fe-8229-7811-e063-1fc7a80a9a89
STATUS:CONFIRMED
LAST-MODIFIED:20230811T200508Z
DESCRIPTION:2. Kreisklasse Herren\nBegegnungs-Nr: 520\nHeim: TSV Schwarz-Rot Schülp III\nGast: Bargenstedter SC II\n
LOCATION:
CATEGORIES:Saison 2022/23
END:VEVENT
BEGIN:VEVENT
DTSTAMP:20260421T150905Z
DTSTART;TZID=Europe/Berlin:20221212T193000
DTEND;TZID=Europe/Berlin:20221212T223000
SUMMARY:2. Kreisklasse MTV Heide III vs Bargenstedter SC II (524)
UID:02ac31fe-8260-7811-e063-1fc7a80a9a89
STATUS:CONFIRMED
LAST-MODIFIED:20230811T200508Z
DESCRIPTION:2. Kreisklasse Herren\nBegegnungs-Nr: 524\nHeim: MTV Heide III\nGast: Bargenstedter SC II\n
LOCATION:
CATEGORIES:Saison 2022/23
END:VEVENT
BEGIN:VEVENT
DTSTAMP:20260421T150905Z
DTSTART;TZID=Europe/Berlin:20230213T200000
DTEND;TZID=Europe/Berlin:20230213T230000
SUMMARY:2. Kreisklasse TTSG Welm-Wrohm-Dell II vs Bargenstedter SC II (613)
UID:02ac31fe-83a9-7811-e063-1fc7a80a9a89
STATUS:CONFIRMED
LAST-MODIFIED:20230811T200508Z
DESCRIPTION:2. Kreisklasse Herren\nBegegnungs-Nr: 613\nHeim: TTSG Welm-Wrohm-Dell II\nGast: Bargenstedter SC II\n
LOCATION:
CATEGORIES:Saison 2022/23
END:VEVENT
BEGIN:VEVENT
DTSTAMP:20260421T150905Z
DTSTART;TZID=Europe/Berlin:20230330T201500
DTEND;TZID=Europe/Berlin:20230330T231500
SUMMARY:2. Kreisklasse TSV Eddelak II vs Bargenstedter SC II (627)
UID:02ac31fe-84ad-7811-e063-1fc7a80a9a89
STATUS:CONFIRMED
LAST-MODIFIED:20230811T200508Z
DESCRIPTION:2. Kreisklasse Herren\nBegegnungs-Nr: 627\nHeim: TSV Eddelak II\nGast: Bargenstedter SC II\n
LOCATION:
CATEGORIES:Saison 2022/23
END:VEVENT
END:VCALENDAR
