BEGIN:VCALENDAR
PRODID:-//nuDatenautomaten//framework iCal4j //DE
VERSION:2.0
CALSCALE:GREGORIAN
BEGIN:VTIMEZONE
TZID:Europe/Berlin
LAST-MODIFIED:20260306T231828Z
TZURL:https://www.tzurl.org/zoneinfo/Europe/Berlin
X-LIC-LOCATION:Europe/Berlin
X-PROLEPTIC-TZNAME:LMT
BEGIN:STANDARD
TZNAME:CET
TZOFFSETFROM:+005328
TZOFFSETTO:+0100
DTSTART:18930401T000000
END:STANDARD
BEGIN:DAYLIGHT
TZNAME:CEST
TZOFFSETFROM:+0100
TZOFFSETTO:+0200
DTSTART:19160430T230000
RDATE:19400401T020000
RDATE:19430329T020000
RDATE:19460414T020000
RDATE:19470406T030000
RDATE:19480418T020000
RDATE:19490410T020000
RDATE:19800406T020000
END:DAYLIGHT
BEGIN:STANDARD
TZNAME:CET
TZOFFSETFROM:+0200
TZOFFSETTO:+0100
DTSTART:19161001T010000
RDATE:19421102T030000
RDATE:19431004T030000
RDATE:19441002T030000
RDATE:19451118T030000
RDATE:19461007T030000
END:STANDARD
BEGIN:DAYLIGHT
TZNAME:CEST
TZOFFSETFROM:+0100
TZOFFSETTO:+0200
DTSTART:19170416T020000
RRULE:FREQ=YEARLY;UNTIL=19180415T010000Z;BYMONTH=4;BYDAY=3MO
END:DAYLIGHT
BEGIN:STANDARD
TZNAME:CET
TZOFFSETFROM:+0200
TZOFFSETTO:+0100
DTSTART:19170917T030000
RRULE:FREQ=YEARLY;UNTIL=19180916T010000Z;BYMONTH=9;BYDAY=3MO
END:STANDARD
BEGIN:DAYLIGHT
TZNAME:CEST
TZOFFSETFROM:+0100
TZOFFSETTO:+0200
DTSTART:19440403T020000
RRULE:FREQ=YEARLY;UNTIL=19450402T010000Z;BYMONTH=4;BYDAY=1MO
END:DAYLIGHT
BEGIN:DAYLIGHT
TZNAME:CEMT
TZOFFSETFROM:+0200
TZOFFSETTO:+0300
DTSTART:19450524T020000
RDATE:19470511T030000
END:DAYLIGHT
BEGIN:DAYLIGHT
TZNAME:CEST
TZOFFSETFROM:+0300
TZOFFSETTO:+0200
DTSTART:19450924T030000
RDATE:19470629T030000
END:DAYLIGHT
BEGIN:STANDARD
TZNAME:CET
TZOFFSETFROM:+0100
TZOFFSETTO:+0100
DTSTART:19460101T000000
RDATE:19800101T000000
END:STANDARD
BEGIN:STANDARD
TZNAME:CET
TZOFFSETFROM:+0200
TZOFFSETTO:+0100
DTSTART:19471005T030000
RRULE:FREQ=YEARLY;UNTIL=19491002T010000Z;BYMONTH=10;BYDAY=1SU
END:STANDARD
BEGIN:STANDARD
TZNAME:CET
TZOFFSETFROM:+0200
TZOFFSETTO:+0100
DTSTART:19800928T030000
RRULE:FREQ=YEARLY;UNTIL=19950924T010000Z;BYMONTH=9;BYDAY=-1SU
END:STANDARD
BEGIN:DAYLIGHT
TZNAME:CEST
TZOFFSETFROM:+0100
TZOFFSETTO:+0200
DTSTART:19810329T020000
RRULE:FREQ=YEARLY;BYMONTH=3;BYDAY=-1SU
END:DAYLIGHT
BEGIN:STANDARD
TZNAME:CET
TZOFFSETFROM:+0200
TZOFFSETTO:+0100
DTSTART:19961027T030000
RRULE:FREQ=YEARLY;BYMONTH=10;BYDAY=-1SU
END:STANDARD
END:VTIMEZONE
BEGIN:VEVENT
DTSTAMP:20260419T124337Z
DTSTART;TZID=Europe/Berlin:20130504T090000
DTEND;TZID=Europe/Berlin:20130504T120000
SUMMARY:Jungen U18 KK B TV Grossvillars III vs TUS Freiberg III (402)
UID:600e4e3e-a375-3ce1-e053-1fc7a80a6bb5
STATUS:CONFIRMED
LAST-MODIFIED:20130504T204139Z
DESCRIPTION:Jungen U18 Kreisklasse B\nBegegnungs-Nr: 402\nHeim: TV Grossvillars III\nGast: TUS Freiberg III\n
LOCATION:
CATEGORIES:Saison Pokal 2012/13
END:VEVENT
BEGIN:VEVENT
DTSTAMP:20260419T124337Z
DTSTART;TZID=Europe/Berlin:20130504T113000
DTEND;TZID=Europe/Berlin:20130504T143000
SUMMARY:Jungen U18 KK B TV Grossvillars III vs SV Salamander Kornwestheim III (501)
UID:600e4e3e-ce53-3ce1-e053-1fc7a80a6bb5
STATUS:CONFIRMED
LAST-MODIFIED:20130504T204735Z
DESCRIPTION:Jungen U18 Kreisklasse B\nBegegnungs-Nr: 501\nHeim: TV Grossvillars III\nGast: SV Salamander Kornwestheim III\n
LOCATION:
CATEGORIES:Saison Pokal 2012/13
END:VEVENT
BEGIN:VEVENT
DTSTAMP:20260419T124337Z
DTSTART;TZID=Europe/Berlin:20121130T235900
DTEND;TZID=Europe/Berlin:20121201T025900
SUMMARY:Jungen U18 KK B TV Grossvillars III vs spielfrei (102)
UID:600e4e3c-6817-3ce1-e053-1fc7a80a6bb5
STATUS:CONFIRMED
DESCRIPTION:Jungen U18 Kreisklasse B\nBegegnungs-Nr: 102\nHeim: TV Grossvillars III\nGast: spielfrei\n
LOCATION:
CATEGORIES:Saison Pokal 2012/13
END:VEVENT
BEGIN:VEVENT
DTSTAMP:20260419T124337Z
DTSTART;TZID=Europe/Berlin:20130228T183000
DTEND;TZID=Europe/Berlin:20130228T213000
SUMMARY:Jungen U18 KK B SV Illingen V vs TV Grossvillars III (301)
UID:600e4e3d-cd7e-3ce1-e053-1fc7a80a6bb5
STATUS:CONFIRMED
DESCRIPTION:Jungen U18 Kreisklasse B\nBegegnungs-Nr: 301\nHeim: SV Illingen V\nGast: TV Grossvillars III\n
LOCATION:
CATEGORIES:Saison Pokal 2012/13
END:VEVENT
BEGIN:VEVENT
DTSTAMP:20260419T124337Z
DTSTART;TZID=Europe/Berlin:20130127T140000
DTEND;TZID=Europe/Berlin:20130127T170000
SUMMARY:Jungen U18 KK B TTG Marbach-Rielingshausen III vs TV Grossvillars III (202)
UID:600e4e5a-881d-3ce1-e053-1fc7a80a6bb5
STATUS:CONFIRMED
LAST-MODIFIED:20130130T222659Z
DESCRIPTION:Jungen U18 Kreisklasse B\nBegegnungs-Nr: 202\nHeim: TTG Marbach-Rielingshausen III\nGast: TV Grossvillars III\n
LOCATION:
CATEGORIES:Saison Pokal 2012/13
END:VEVENT
END:VCALENDAR
